{
 "currentVersion": 11.3,
 "serviceDescription": "AerialImagery/GrandForksOrtho2015",
 "name": "AerialImagery/GrandForksOrtho2015",
 "description": "",
 "extent": {
  "xmin": 2774160,
  "ymin": 316280,
  "xmax": 2844230,
  "ymax": 388470,
  "spatialReference": {
   "wkid": 102720,
   "latestWkid": 102720
  }
 },
 "initialExtent": {
  "xmin": 2774160,
  "ymin": 316280,
  "xmax": 2844230,
  "ymax": 388470,
  "spatialReference": {
   "wkid": 102720,
   "latestWkid": 102720
  }
 },
 "fullExtent": {
  "xmin": 2774160,
  "ymin": 316280,
  "xmax": 2844230,
  "ymax": 388470,
  "spatialReference": {
   "wkid": 102720,
   "latestWkid": 102720
  }
 },
 "sortableFields": "",
 "bandCount": 3,
 "pixelType": "U8",
 "minValues": [
  35,
  50,
  65
 ],
 "maxValues": [
  255,
  255,
  255
 ],
 "meanValues": [
  151.42641355379,
  157.00877730149,
  159.50357215758
 ],
 "stdvValues": [
  49.843409052982,
  45.991312008648,
  43.741364149255
 ],
 "hasMultidimensions": false,
 "pixelSizeX": 0.5,
 "pixelSizeY": 0.5,
 "meanPixelSize": 0.15240030480060962,
 "datasetFormat": "MrSID",
 "uncompressedSize": 60700239600,
 "blockWidth": 1024,
 "blockHeight": 128,
 "compressionType": "Wavelet (MG3)",
 "bandNames": [
  "Band_1",
  "Band_2",
  "Band_3"
 ],
 "allowCopy": true,
 "allowAnalysis": true,
 "itemAccess": false,
 "inspectionCapabilities": "",
 "minPixelSize": 0,
 "maxPixelSize": 0,
 "copyrightText": "",
 "serviceDataType": "esriImageServiceDataTypeRGB",
 "serviceSourceType": "esriImageServiceSourceTypeDataset",
 "objectIdField": "",
 "fields": [],
 "capabilities": "Image,Metadata,Mensuration",
 "defaultMosaicMethod": "Center",
 "allowedMosaicMethods": "",
 "sortField": "",
 "sortValue": null,
 "sortAscending": true,
 "mosaicOperator": "First",
 "defaultCompressionQuality": 75,
 "defaultResamplingMethod": "Bilinear",
 "maxImageHeight": 4100,
 "maxImageWidth": 15000,
 "allowRasterFunction": true,
 "rasterFunctionInfos": [
  {
   "name": "None",
   "description": "",
   "help": ""
  }
 ],
 "rasterTypeInfos": [
  {
   "name": "Raster Dataset",
   "description": "Supports all ArcGIS Raster Datasets",
   "help": ""
  }
 ],
 "mensurationCapabilities": "Basic",
 "hasHistograms": true,
 "hasColormap": false,
 "hasRasterAttributeTable": false,
 "minScale": 0,
 "maxScale": 0,
 "exportTilesAllowed": false,
 "supportsStatistics": false,
 "supportsAdvancedQueries": false,
 "editFieldsInfo": null,
 "ownershipBasedAccessControlForRasters": null,
 "allowComputeTiePoints": false,
 "useStandardizedQueries": true,
 "advancedQueryCapabilities": {
  "useStandardizedQueries": true,
  "supportsStatistics": false,
  "supportsOrderBy": false,
  "supportsDistinct": false,
  "supportsPagination": false
 },
 "spatialReference": {
  "wkid": 102720,
  "latestWkid": 102720
 }
}
