{
 "currentVersion": 11.3,
 "serviceDescription": "AerialImagery/GrandForksOrtho2021",
 "name": "AerialImagery/GrandForksOrtho2021",
 "description": "",
 "extent": {
  "xmin": 2774211.356,
  "ymin": 317255.185,
  "xmax": 2844818.856,
  "ymax": 387774.935,
  "spatialReference": {
   "wkt2": "COMPOUNDCRS[\"\",PROJCRS[\"NAD_1983_StatePlane_North_Dakota_North_FIPS_3301_Feet\",BASEGEOGCRS[\"GCS_North_American_1983\",DATUM[\"D_North_American_1983\",ELLIPSOID[\"GRS_1980\",6378137.0,298.257222101,LENGTHUNIT[\"Meter\",1.0]]],PRIMEM[\"Greenwich\",0.0,ANGLEUNIT[\"Degree\",0.0174532925199433]],CS[ellipsoidal,2],AXIS[\"Latitude (lat)\",north,ORDER[1]],AXIS[\"Longitude (lon)\",east,ORDER[2]],ANGLEUNIT[\"Degree\",0.0174532925199433]],CONVERSION[\"Lambert_Conformal_Conic\",METHOD[\"Lambert_Conformal_Conic\"],PARAMETER[\"False_Easting\",1968500.0,LENGTHUNIT[\"Foot_US\",0.3048006096012192]],PARAMETER[\"False_Northing\",0.0,LENGTHUNIT[\"Foot_US\",0.3048006096012192]],PARAMETER[\"Central_Meridian\",-100.5,ANGLEUNIT[\"Degree\",0.0174532925199433]],PARAMETER[\"Standard_Parallel_1\",47.43333333333333,ANGLEUNIT[\"Degree\",0.0174532925199433]],PARAMETER[\"Standard_Parallel_2\",48.73333333333333,ANGLEUNIT[\"Degree\",0.0174532925199433]],PARAMETER[\"Latitude_Of_Origin\",47.0,ANGLEUNIT[\"Degree\",0.0174532925199433]]],CS[Cartesian,2],AXIS[\"Easting (X)\",east,ORDER[1]],AXIS[\"Northing (Y)\",north,ORDER[2]],LENGTHUNIT[\"Foot_US\",0.3048006096012192]],VERTCRS[\"VCS_Name_NAVD88_height_-_Geoid12B_ftUS_Datum_Name_North_American_Vertical_Datum_\",VDATUM[\"North_American_Vertical_Datum_1988\"],CS[vertical,1],AXIS[\"Gravity-related height (H)\",up,LENGTHUNIT[\"Foot_US\",0.3048006096012192]]]]",
   "wkt": "PROJCS[\"NAD_1983_StatePlane_North_Dakota_North_FIPS_3301_Feet\",GEOGCS[\"GCS_North_American_1983\",DATUM[\"D_North_American_1983\",SPHEROID[\"GRS_1980\",6378137.0,298.257222101]],PRIMEM[\"Greenwich\",0.0],UNIT[\"Degree\",0.0174532925199433]],PROJECTION[\"Lambert_Conformal_Conic\"],PARAMETER[\"False_Easting\",1968500.0],PARAMETER[\"False_Northing\",0.0],PARAMETER[\"Central_Meridian\",-100.5],PARAMETER[\"Standard_Parallel_1\",47.43333333333333],PARAMETER[\"Standard_Parallel_2\",48.73333333333333],PARAMETER[\"Latitude_Of_Origin\",47.0],UNIT[\"Foot_US\",0.3048006096012192]],VERTCS[\"VCS_Name_NAVD88_height_-_Geoid12B_ftUS_Datum_Name_North_American_Vertical_Datum_\",VDATUM[\"North_American_Vertical_Datum_1988\"],PARAMETER[\"Vertical_Shift\",0.0],PARAMETER[\"Direction\",1.0],UNIT[\"Foot_US\",0.3048006096012192]]"
  }
 },
 "initialExtent": {
  "xmin": 2774211.356,
  "ymin": 317255.185,
  "xmax": 2844818.856,
  "ymax": 387774.935,
  "spatialReference": {
   "wkt2": "COMPOUNDCRS[\"\",PROJCRS[\"NAD_1983_StatePlane_North_Dakota_North_FIPS_3301_Feet\",BASEGEOGCRS[\"GCS_North_American_1983\",DATUM[\"D_North_American_1983\",ELLIPSOID[\"GRS_1980\",6378137.0,298.257222101,LENGTHUNIT[\"Meter\",1.0]]],PRIMEM[\"Greenwich\",0.0,ANGLEUNIT[\"Degree\",0.0174532925199433]],CS[ellipsoidal,2],AXIS[\"Latitude (lat)\",north,ORDER[1]],AXIS[\"Longitude (lon)\",east,ORDER[2]],ANGLEUNIT[\"Degree\",0.0174532925199433]],CONVERSION[\"Lambert_Conformal_Conic\",METHOD[\"Lambert_Conformal_Conic\"],PARAMETER[\"False_Easting\",1968500.0,LENGTHUNIT[\"Foot_US\",0.3048006096012192]],PARAMETER[\"False_Northing\",0.0,LENGTHUNIT[\"Foot_US\",0.3048006096012192]],PARAMETER[\"Central_Meridian\",-100.5,ANGLEUNIT[\"Degree\",0.0174532925199433]],PARAMETER[\"Standard_Parallel_1\",47.43333333333333,ANGLEUNIT[\"Degree\",0.0174532925199433]],PARAMETER[\"Standard_Parallel_2\",48.73333333333333,ANGLEUNIT[\"Degree\",0.0174532925199433]],PARAMETER[\"Latitude_Of_Origin\",47.0,ANGLEUNIT[\"Degree\",0.0174532925199433]]],CS[Cartesian,2],AXIS[\"Easting (X)\",east,ORDER[1]],AXIS[\"Northing (Y)\",north,ORDER[2]],LENGTHUNIT[\"Foot_US\",0.3048006096012192]],VERTCRS[\"VCS_Name_NAVD88_height_-_Geoid12B_ftUS_Datum_Name_North_American_Vertical_Datum_\",VDATUM[\"North_American_Vertical_Datum_1988\"],CS[vertical,1],AXIS[\"Gravity-related height (H)\",up,LENGTHUNIT[\"Foot_US\",0.3048006096012192]]]]",
   "wkt": "PROJCS[\"NAD_1983_StatePlane_North_Dakota_North_FIPS_3301_Feet\",GEOGCS[\"GCS_North_American_1983\",DATUM[\"D_North_American_1983\",SPHEROID[\"GRS_1980\",6378137.0,298.257222101]],PRIMEM[\"Greenwich\",0.0],UNIT[\"Degree\",0.0174532925199433]],PROJECTION[\"Lambert_Conformal_Conic\"],PARAMETER[\"False_Easting\",1968500.0],PARAMETER[\"False_Northing\",0.0],PARAMETER[\"Central_Meridian\",-100.5],PARAMETER[\"Standard_Parallel_1\",47.43333333333333],PARAMETER[\"Standard_Parallel_2\",48.73333333333333],PARAMETER[\"Latitude_Of_Origin\",47.0],UNIT[\"Foot_US\",0.3048006096012192]],VERTCS[\"VCS_Name_NAVD88_height_-_Geoid12B_ftUS_Datum_Name_North_American_Vertical_Datum_\",VDATUM[\"North_American_Vertical_Datum_1988\"],PARAMETER[\"Vertical_Shift\",0.0],PARAMETER[\"Direction\",1.0],UNIT[\"Foot_US\",0.3048006096012192]]"
  }
 },
 "fullExtent": {
  "xmin": 2774211.356,
  "ymin": 317255.185,
  "xmax": 2844818.856,
  "ymax": 387774.935,
  "spatialReference": {
   "wkt2": "COMPOUNDCRS[\"\",PROJCRS[\"NAD_1983_StatePlane_North_Dakota_North_FIPS_3301_Feet\",BASEGEOGCRS[\"GCS_North_American_1983\",DATUM[\"D_North_American_1983\",ELLIPSOID[\"GRS_1980\",6378137.0,298.257222101,LENGTHUNIT[\"Meter\",1.0]]],PRIMEM[\"Greenwich\",0.0,ANGLEUNIT[\"Degree\",0.0174532925199433]],CS[ellipsoidal,2],AXIS[\"Latitude (lat)\",north,ORDER[1]],AXIS[\"Longitude (lon)\",east,ORDER[2]],ANGLEUNIT[\"Degree\",0.0174532925199433]],CONVERSION[\"Lambert_Conformal_Conic\",METHOD[\"Lambert_Conformal_Conic\"],PARAMETER[\"False_Easting\",1968500.0,LENGTHUNIT[\"Foot_US\",0.3048006096012192]],PARAMETER[\"False_Northing\",0.0,LENGTHUNIT[\"Foot_US\",0.3048006096012192]],PARAMETER[\"Central_Meridian\",-100.5,ANGLEUNIT[\"Degree\",0.0174532925199433]],PARAMETER[\"Standard_Parallel_1\",47.43333333333333,ANGLEUNIT[\"Degree\",0.0174532925199433]],PARAMETER[\"Standard_Parallel_2\",48.73333333333333,ANGLEUNIT[\"Degree\",0.0174532925199433]],PARAMETER[\"Latitude_Of_Origin\",47.0,ANGLEUNIT[\"Degree\",0.0174532925199433]]],CS[Cartesian,2],AXIS[\"Easting (X)\",east,ORDER[1]],AXIS[\"Northing (Y)\",north,ORDER[2]],LENGTHUNIT[\"Foot_US\",0.3048006096012192]],VERTCRS[\"VCS_Name_NAVD88_height_-_Geoid12B_ftUS_Datum_Name_North_American_Vertical_Datum_\",VDATUM[\"North_American_Vertical_Datum_1988\"],CS[vertical,1],AXIS[\"Gravity-related height (H)\",up,LENGTHUNIT[\"Foot_US\",0.3048006096012192]]]]",
   "wkt": "PROJCS[\"NAD_1983_StatePlane_North_Dakota_North_FIPS_3301_Feet\",GEOGCS[\"GCS_North_American_1983\",DATUM[\"D_North_American_1983\",SPHEROID[\"GRS_1980\",6378137.0,298.257222101]],PRIMEM[\"Greenwich\",0.0],UNIT[\"Degree\",0.0174532925199433]],PROJECTION[\"Lambert_Conformal_Conic\"],PARAMETER[\"False_Easting\",1968500.0],PARAMETER[\"False_Northing\",0.0],PARAMETER[\"Central_Meridian\",-100.5],PARAMETER[\"Standard_Parallel_1\",47.43333333333333],PARAMETER[\"Standard_Parallel_2\",48.73333333333333],PARAMETER[\"Latitude_Of_Origin\",47.0],UNIT[\"Foot_US\",0.3048006096012192]],VERTCS[\"VCS_Name_NAVD88_height_-_Geoid12B_ftUS_Datum_Name_North_American_Vertical_Datum_\",VDATUM[\"North_American_Vertical_Datum_1988\"],PARAMETER[\"Vertical_Shift\",0.0],PARAMETER[\"Direction\",1.0],UNIT[\"Foot_US\",0.3048006096012192]]"
  }
 },
 "sortableFields": "",
 "heightModelInfo": {
  "heightModel": "gravity_related_height",
  "vertCRS": "VCS_Name_NAVD88_height_-_Geoid12B_ftUS_Datum_Name_North_American_Vertical_Datum_",
  "heightUnit": "us-foot"
 },
 "bandCount": 3,
 "pixelType": "U8",
 "minValues": [
  0,
  0,
  0
 ],
 "maxValues": [
  255,
  255,
  255
 ],
 "meanValues": [
  102.75866414619,
  101.66960722537,
  95.280193236715
 ],
 "stdvValues": [
  64.675620413632,
  63.805985613238,
  64.173356998203
 ],
 "hasMultidimensions": false,
 "pixelSizeX": 0.25,
 "pixelSizeY": 0.25,
 "meanPixelSize": 0.07620015240030481,
 "datasetFormat": "MrSID",
 "uncompressedSize": 239002715910,
 "blockWidth": 1024,
 "blockHeight": 128,
 "compressionType": "Wavelet (MG3)",
 "bandNames": [
  "Band_1",
  "Band_2",
  "Band_3"
 ],
 "allowCopy": true,
 "allowAnalysis": true,
 "itemAccess": false,
 "inspectionCapabilities": "",
 "minPixelSize": 0,
 "maxPixelSize": 0,
 "copyrightText": "",
 "serviceDataType": "esriImageServiceDataTypeRGB",
 "serviceSourceType": "esriImageServiceSourceTypeDataset",
 "objectIdField": "",
 "fields": [],
 "capabilities": "Image,Metadata,Mensuration",
 "defaultMosaicMethod": "Center",
 "allowedMosaicMethods": "",
 "sortField": "",
 "sortValue": null,
 "sortAscending": true,
 "mosaicOperator": "First",
 "defaultCompressionQuality": 75,
 "defaultResamplingMethod": "Bilinear",
 "maxImageHeight": 4100,
 "maxImageWidth": 15000,
 "allowRasterFunction": true,
 "rasterFunctionInfos": [
  {
   "name": "None",
   "description": "",
   "help": ""
  }
 ],
 "rasterTypeInfos": [
  {
   "name": "Raster Dataset",
   "description": "Supports all ArcGIS Raster Datasets",
   "help": ""
  }
 ],
 "mensurationCapabilities": "Basic",
 "hasHistograms": true,
 "hasColormap": false,
 "hasRasterAttributeTable": false,
 "minScale": 0,
 "maxScale": 0,
 "exportTilesAllowed": false,
 "supportsStatistics": false,
 "supportsAdvancedQueries": false,
 "editFieldsInfo": null,
 "ownershipBasedAccessControlForRasters": null,
 "allowComputeTiePoints": false,
 "useStandardizedQueries": true,
 "advancedQueryCapabilities": {
  "useStandardizedQueries": true,
  "supportsStatistics": false,
  "supportsOrderBy": false,
  "supportsDistinct": false,
  "supportsPagination": false
 },
 "spatialReference": {
  "wkt2": "COMPOUNDCRS[\"\",PROJCRS[\"NAD_1983_StatePlane_North_Dakota_North_FIPS_3301_Feet\",BASEGEOGCRS[\"GCS_North_American_1983\",DATUM[\"D_North_American_1983\",ELLIPSOID[\"GRS_1980\",6378137.0,298.257222101,LENGTHUNIT[\"Meter\",1.0]]],PRIMEM[\"Greenwich\",0.0,ANGLEUNIT[\"Degree\",0.0174532925199433]],CS[ellipsoidal,2],AXIS[\"Latitude (lat)\",north,ORDER[1]],AXIS[\"Longitude (lon)\",east,ORDER[2]],ANGLEUNIT[\"Degree\",0.0174532925199433]],CONVERSION[\"Lambert_Conformal_Conic\",METHOD[\"Lambert_Conformal_Conic\"],PARAMETER[\"False_Easting\",1968500.0,LENGTHUNIT[\"Foot_US\",0.3048006096012192]],PARAMETER[\"False_Northing\",0.0,LENGTHUNIT[\"Foot_US\",0.3048006096012192]],PARAMETER[\"Central_Meridian\",-100.5,ANGLEUNIT[\"Degree\",0.0174532925199433]],PARAMETER[\"Standard_Parallel_1\",47.43333333333333,ANGLEUNIT[\"Degree\",0.0174532925199433]],PARAMETER[\"Standard_Parallel_2\",48.73333333333333,ANGLEUNIT[\"Degree\",0.0174532925199433]],PARAMETER[\"Latitude_Of_Origin\",47.0,ANGLEUNIT[\"Degree\",0.0174532925199433]]],CS[Cartesian,2],AXIS[\"Easting (X)\",east,ORDER[1]],AXIS[\"Northing (Y)\",north,ORDER[2]],LENGTHUNIT[\"Foot_US\",0.3048006096012192]],VERTCRS[\"VCS_Name_NAVD88_height_-_Geoid12B_ftUS_Datum_Name_North_American_Vertical_Datum_\",VDATUM[\"North_American_Vertical_Datum_1988\"],CS[vertical,1],AXIS[\"Gravity-related height (H)\",up,LENGTHUNIT[\"Foot_US\",0.3048006096012192]]]]",
  "wkt": "PROJCS[\"NAD_1983_StatePlane_North_Dakota_North_FIPS_3301_Feet\",GEOGCS[\"GCS_North_American_1983\",DATUM[\"D_North_American_1983\",SPHEROID[\"GRS_1980\",6378137.0,298.257222101]],PRIMEM[\"Greenwich\",0.0],UNIT[\"Degree\",0.0174532925199433]],PROJECTION[\"Lambert_Conformal_Conic\"],PARAMETER[\"False_Easting\",1968500.0],PARAMETER[\"False_Northing\",0.0],PARAMETER[\"Central_Meridian\",-100.5],PARAMETER[\"Standard_Parallel_1\",47.43333333333333],PARAMETER[\"Standard_Parallel_2\",48.73333333333333],PARAMETER[\"Latitude_Of_Origin\",47.0],UNIT[\"Foot_US\",0.3048006096012192]],VERTCS[\"VCS_Name_NAVD88_height_-_Geoid12B_ftUS_Datum_Name_North_American_Vertical_Datum_\",VDATUM[\"North_American_Vertical_Datum_1988\"],PARAMETER[\"Vertical_Shift\",0.0],PARAMETER[\"Direction\",1.0],UNIT[\"Foot_US\",0.3048006096012192]]"
 }
}
