View In:
ArcGIS JavaScript
ArcGIS Online Map Viewer
ArcGIS Earth
Service Description: AerialImagery/GrandForksOrtho1970s
Name: AerialImagery/GrandForksOrtho1970s
Description:
Single Fused Map Cache: false
Extent:
XMin: 2769872.5518177613
YMin: 324642.2270884746
XMax: 2830272.959546542
YMax: 373723.3826747738
Spatial Reference: 102720
(102720)
LatestVCSWkid(0)
Initial Extent:
XMin: 2769872.5518177613
YMin: 324642.2270884746
XMax: 2830272.959546542
YMax: 373723.3826747738
Spatial Reference: 102720
(102720)
LatestVCSWkid(0)
Full Extent:
XMin: 2769872.5518177613
YMin: 324642.2270884746
XMax: 2830272.959546542
YMax: 373723.3826747738
Spatial Reference: 102720
(102720)
LatestVCSWkid(0)
Pixel Size X: 5.689027760081052
Pixel Size Y: 5.737130986124979
Band Count: 3
Pixel Type: U8
RasterFunction Infos: {"rasterFunctionInfos": [{
"name": "None",
"description": "",
"help": ""
}]}
Mensuration Capabilities: Basic
Inspection Capabilities:
Has Histograms: true
Has Colormap: false
Has Multi Dimensions : false
Rendering Rule:
Min Scale: 0
Max Scale: 0
Copyright Text:
Service Data Type: esriImageServiceDataTypeRGB
Min Values: 0, 0, 0
Max Values: 255, 255, 255
Mean Values: 144.88487605235, 135.73976515171, 133.93079603319
Standard Deviation Values: 89.455184774717, 84.648164865085, 83.691242742433
Object ID Field:
Fields:
None
Default Mosaic Method: Center
Allowed Mosaic Methods:
SortField:
SortValue: null
Mosaic Operator: First
Default Compression Quality: 75
Default Resampling Method: Bilinear
Max Record Count: null
Max Image Height: 4100
Max Image Width: 15000
Max Download Image Count: null
Max Mosaic Image Count: null
Allow Raster Function: true
Allow Copy: true
Allow Analysis: true
Allow Compute TiePoints: false
Supports Statistics: false
Supports Advanced Queries: false
Use StandardizedQueries: true
Raster Type Infos:
Name: Raster Dataset
Description: Supports all ArcGIS Raster Datasets
Help:
Has Raster Attribute Table: false
Edit Fields Info: null
Ownership Based AccessControl For Rasters: null
Child Resources:
Info
Histograms
Statistics
Key Properties
Legend
Raster Function Infos
Supported Operations:
Export Image
Identify
Measure
Compute Histograms
Compute Statistics Histograms
Get Samples
Compute Class Statistics
Query Boundary
Compute Pixel Location
Compute Angles
Validate
Project