View In:
ArcGIS JavaScript
ArcGIS Online Map Viewer
ArcGIS Earth
Service Description: AerialImagery/GrandForksOrtho2020
Name: AerialImagery/GrandForksOrtho2020
Description:
Single Fused Map Cache: false
Extent:
XMin: 2773460.0
YMin: 329885.5
XMax: 2828416.0
YMax: 377118.25
Spatial Reference: 0
(0)
LatestVCSWkid(0)
Initial Extent:
XMin: 2773460.0
YMin: 329885.5
XMax: 2828416.0
YMax: 377118.25
Spatial Reference: 0
(0)
LatestVCSWkid(0)
Full Extent:
XMin: 2773460.0
YMin: 329885.5
XMax: 2828416.0
YMax: 377118.25
Spatial Reference: 0
(0)
LatestVCSWkid(0)
Pixel Size X: 0.25
Pixel Size Y: 0.25
Band Count: 3
Pixel Type: U8
RasterFunction Infos: {"rasterFunctionInfos": [{
"name": "None",
"description": "",
"help": ""
}]}
Mensuration Capabilities: Basic
Inspection Capabilities:
Has Histograms: true
Has Colormap: false
Has Multi Dimensions : false
Rendering Rule:
Min Scale: 0
Max Scale: 0
Copyright Text:
Service Data Type: esriImageServiceDataTypeRGB
Min Values: 39, 37, 0
Max Values: 255, 255, 255
Mean Values: 190.17533490938, 180.01851851852, 163.11505122143
Standard Deviation Values: 59.53723886484, 67.389643991264, 81.592508436959
Object ID Field:
Fields:
None
Default Mosaic Method: Center
Allowed Mosaic Methods:
SortField:
SortValue: null
Mosaic Operator: First
Default Compression Quality: 75
Default Resampling Method: Bilinear
Max Record Count: null
Max Image Height: 4100
Max Image Width: 15000
Max Download Image Count: null
Max Mosaic Image Count: null
Allow Raster Function: true
Allow Copy: true
Allow Analysis: true
Allow Compute TiePoints: false
Supports Statistics: false
Supports Advanced Queries: false
Use StandardizedQueries: true
Raster Type Infos:
Name: Raster Dataset
Description: Supports all ArcGIS Raster Datasets
Help:
Has Raster Attribute Table: false
Edit Fields Info: null
Ownership Based AccessControl For Rasters: null
Child Resources:
Info
Histograms
Statistics
Key Properties
Legend
Raster Function Infos
Supported Operations:
Export Image
Identify
Measure
Compute Histograms
Compute Statistics Histograms
Get Samples
Compute Class Statistics
Query Boundary
Compute Pixel Location
Compute Angles
Validate
Project