View In:
ArcGIS JavaScript
ArcGIS Online Map Viewer
ArcGIS Earth
Service Description: AerialImagery/GrandForksOrtho2023
Name: AerialImagery/GrandForksOrtho2023
Description:
Single Fused Map Cache: false
Extent:
XMin: 2774744.75
YMin: 317803.75
XMax: 2844275.0
YMax: 387249.0
Spatial Reference: 102720
(102720)
LatestVCSWkid(0)
Initial Extent:
XMin: 2774744.75
YMin: 317803.75
XMax: 2844275.0
YMax: 387249.0
Spatial Reference: 102720
(102720)
LatestVCSWkid(0)
Full Extent:
XMin: 2774744.75
YMin: 317803.75
XMax: 2844275.0
YMax: 387249.0
Spatial Reference: 102720
(102720)
LatestVCSWkid(0)
Pixel Size X: 0.25
Pixel Size Y: 0.25
Band Count: 3
Pixel Type: U8
RasterFunction Infos: {"rasterFunctionInfos": [{
"name": "None",
"description": "",
"help": ""
}]}
Mensuration Capabilities: Basic
Inspection Capabilities:
Has Histograms: true
Has Colormap: false
Has Multi Dimensions : false
Rendering Rule:
Min Scale: 0
Max Scale: 0
Copyright Text:
Service Data Type: esriImageServiceDataTypeRGB
Min Values: 0, 3, 0
Max Values: 255, 255, 255
Mean Values: 102.44896193772, 98.109212802768, 90.928633217993
Standard Deviation Values: 63.266247477282, 64.469122070891, 66.901354149668
Object ID Field:
Fields:
None
Default Mosaic Method: Center
Allowed Mosaic Methods:
SortField:
SortValue: null
Mosaic Operator: First
Default Compression Quality: 75
Default Resampling Method: Bilinear
Max Record Count: null
Max Image Height: 4100
Max Image Width: 15000
Max Download Image Count: null
Max Mosaic Image Count: null
Allow Raster Function: true
Allow Copy: true
Allow Analysis: true
Allow Compute TiePoints: false
Supports Statistics: false
Supports Advanced Queries: false
Use StandardizedQueries: true
Raster Type Infos:
Name: Raster Dataset
Description: Supports all ArcGIS Raster Datasets
Help:
Has Raster Attribute Table: false
Edit Fields Info: null
Ownership Based AccessControl For Rasters: null
Child Resources:
Info
Histograms
Statistics
Key Properties
Legend
Raster Function Infos
Supported Operations:
Export Image
Identify
Measure
Compute Histograms
Compute Statistics Histograms
Get Samples
Compute Class Statistics
Query Boundary
Compute Pixel Location
Compute Angles
Validate
Project