View In:
ArcGIS JavaScript
ArcGIS Online Map Viewer
ArcGIS Earth
Service Description: AerialImagery/GrandForksOrtho2025
Name: AerialImagery/GrandForksOrtho2025
Description:
Single Fused Map Cache: false
Extent:
XMin: 2771471.359
YMin: 314743.807
XMax: 2844528.359
YMax: 387461.057
Spatial Reference: 0
(0)
LatestVCSWkid(0)
Initial Extent:
XMin: 2771471.359
YMin: 314743.807
XMax: 2844528.359
YMax: 387461.057
Spatial Reference: 0
(0)
LatestVCSWkid(0)
Full Extent:
XMin: 2771471.359
YMin: 314743.807
XMax: 2844528.359
YMax: 387461.057
Spatial Reference: 0
(0)
LatestVCSWkid(0)
Pixel Size X: 0.25
Pixel Size Y: 0.25
Band Count: 3
Pixel Type: U8
RasterFunction Infos: {"rasterFunctionInfos": [{
"name": "None",
"description": "",
"help": ""
}]}
Mensuration Capabilities: Basic
Inspection Capabilities:
Has Histograms: true
Has Colormap: false
Has Multi Dimensions : false
Rendering Rule:
Min Scale: 0
Max Scale: 0
Copyright Text:
Service Data Type: esriImageServiceDataTypeRGB
Min Values: 20, 27, 18
Max Values: 255, 255, 255
Mean Values: 139.47337962963, 133.53105709877, 124.23919753086
Standard Deviation Values: 53.123502750123, 54.349323439176, 56.216593981335
Object ID Field:
Fields:
None
Default Mosaic Method: Center
Allowed Mosaic Methods:
SortField:
SortValue: null
Mosaic Operator: First
Default Compression Quality: 75
Default Resampling Method: Bilinear
Max Record Count: null
Max Image Height: 4100
Max Image Width: 15000
Max Download Image Count: null
Max Mosaic Image Count: null
Allow Raster Function: true
Allow Copy: true
Allow Analysis: true
Allow Compute TiePoints: false
Supports Statistics: false
Supports Advanced Queries: false
Use StandardizedQueries: true
Raster Type Infos:
Name: Raster Dataset
Description: Supports all ArcGIS Raster Datasets
Help:
Has Raster Attribute Table: false
Edit Fields Info: null
Ownership Based AccessControl For Rasters: null
Child Resources:
Info
Histograms
Statistics
Key Properties
Legend
Raster Function Infos
Supported Operations:
Export Image
Identify
Measure
Compute Histograms
Compute Statistics Histograms
Get Samples
Compute Class Statistics
Query Boundary
Compute Pixel Location
Compute Angles
Validate
Project